Workbook
Name Dienstag: #REF!
Name Donnerstag: #REF!
Name Freitag: #REF!
Name Mittwoch: #REF!
Name Montag: #REF!
Name OLE_LINK1: Information_Kompakt!$A$1
Name Samstag: #REF!
Name Sonntag: #REF!

Sheet Formular
A1: Reisegebühren für Schulveranstaltungen (SJ 26/27) Bildungsdirektion für Tirol, Abteilung Budget und Wirtschaft | K1: 1
K2: 1
F3: ="Bezirk"&" "&_xlfn.IFNA(VLOOKUP(B5,Schuldatenbank!E2:F527,2,FALSE),"") -> Bezirk | K3: =VALUE(K1&K2) -> 11 | AB3: =FIND(AB2,) -> 1
K4: =VALUE(K3&K2) -> 111
A5: Schule: | K5: 1
K6: =K5+1 -> 2
A7: Klasse: | G7: =IF(ISNA(VLOOKUP(VALUE(K3&K5-1),Schuldatenbank!P3:R751,3,FALSE)),"",VLOOKUP(VALUE(K3&K5-1),Schuldatenbank!P3:R751,3,FALSE))
A8: Schulstufe: | U8: Sonntag | V8: Montag | W8: Dienstag | X8: Mittwoch | Y8: Donnerstag | Z8: Freitag | AA8: Samstag
R9: 0
A10: Schülerinnen: | D10: Schüler: | Q10: 1 | R10: 1 | S10: bitte auswählen | U10: 45438 | V10: =U10+1 -> 45439 | W10: =V10+1 -> 45440 | X10: =W10+1 -> 45441 | Y10: =X10+1 -> 45442 | Z10: =Y10+1 -> 45443 | AA10: =Z10+1 -> 45444
Q11: 2 | S11: Schulleiter | U11: =AA10+1 -> 45445 | V11: =U11+1 -> 45446 | W11: =V11+1 -> 45447 | X11: =W11+1 -> 45448 | Y11: =X11+1 -> 45449 | Z11: =Y11+1 -> 45450 | AA11: =Z11+1 -> 45451
A12: Entscheidung über die Durchführung durch: | Q12: 3 | S12: Klassen- oder Schulforum bzw. Schulgemeinschaftsausschuss | U12: =AA11+1 -> 45452 | V12: =U12+1 -> 45453 | W12: =V12+1 -> 45454 | X12: =W12+1 -> 45455 | Y12: =X12+1 -> 45456 | Z12: =Y12+1 -> 45457 | AA12: =Z12+1 -> 45458
U13: =AA12+1 -> 45459 | V13: =U13+1 -> 45460 | W13: =V13+1 -> 45461 | X13: =W13+1 -> 45462 | Y13: =X13+1 -> 45463 | Z13: =Y13+1 -> 45464 | AA13: =Z13+1 -> 45465
Q14: 3 | U14: =AA13+1 -> 45466 | V14: =U14+1 -> 45467 | W14: =V14+1 -> 45468 | X14: =W14+1 -> 45469 | Y14: =X14+1 -> 45470 | Z14: =Y14+1 -> 45471 | AA14: =Z14+1 -> 45472
Q15: 1 | S15: bitte auswählen | U15: =AA14+1 -> 45473 | V15: =U15+1 -> 45474 | W15: =V15+1 -> 45475 | X15: =W15+1 -> 45476 | Y15: =X15+1 -> 45477 | Z15: =Y15+1 -> 45478 | AA15: =Z15+1 -> 45479
A16: Art der Woche bitte auswählen: | N16: Zeitdiff in Dezimal | O16: das sind in Std. u Min. | Q16: 2 | R16: 1 | S16: Exkursion | U16: =AA15+1 -> 45480 | V16: =U16+1 -> 45481 | W16: =V16+1 -> 45482 | X16: =W16+1 -> 45483 | Y16: =X16+1 -> 45484 | Z16: =Y16+1 -> 45485 | AA16: =Z16+1 -> 45486
N17: =ROUNDUP(I26,3) -> 0 | O17: =I26 -> 0 | Q17: 3 | S17: Wander- oder Sporttag | U17: =AA16+1 -> 45487 | V17: =U17+1 -> 45488 | W17: =V17+1 -> 45489 | X17: =W17+1 -> 45490 | Y17: =X17+1 -> 45491 | Z17: =Y17+1 -> 45492 | AA17: =Z17+1 -> 45493
A18: Nächtigung bzw. Nächtigungskosten: | N18: =ROUNDUP(I27,3) -> 0 | O18: =I27 -> 0 | Q18: 4 | S18: Berufspraktische Tage | U18: =AA17+1 -> 45494 | V18: =U18+1 -> 45495 | W18: =V18+1 -> 45496 | X18: =W18+1 -> 45497 | Y18: =X18+1 -> 45498 | Z18: =Y18+1 -> 45499 | AA18: =Z18+1 -> 45500
N19: =ROUNDUP(I28,3) -> 0 | O19: =I28 -> 0 | Q19: 5 | S19: Berufspraktische Woche | U19: =AA18+1 -> 45501 | V19: =U19+1 -> 45502 | W19: =V19+1 -> 45503 | X19: =W19+1 -> 45504 | Y19: =X19+1 -> 45505 | Z19: =Y19+1 -> 45506 | AA19: =Z19+1 -> 45507
N20: =ROUNDUP(I29,3) -> 0 | O20: =I29 -> 0 | Q20: 6 | S20: Wintersportwoche | U20: =AA19+1 -> 45508 | V20: =U20+1 -> 45509 | W20: =V20+1 -> 45510 | X20: =W20+1 -> 45511 | Y20: =X20+1 -> 45512 | Z20: =Y20+1 -> 45513 | AA20: =Z20+1 -> 45514
N21: =ROUNDUP(I30,3) -> 0 | O21: =I30 -> 0 | Q21: 7 | S21: Sommersportwoche | U21: =AA20+1 -> 45515 | V21: =U21+1 -> 45516 | W21: =V21+1 -> 45517 | X21: =W21+1 -> 45518 | Y21: =X21+1 -> 45519 | Z21: =Y21+1 -> 45520 | AA21: =Z21+1 -> 45521
A22: Dauer der Veranstaltung: | N22: =ROUNDUP(I31,3) -> 0 | O22: =I31 -> 0 | Q22: 8 | S22: Projekttage/-woche | U22: =AA21+1 -> 45522 | V22: =U22+1 -> 45523 | W22: =V22+1 -> 45524 | X22: =W22+1 -> 45525 | Y22: =X22+1 -> 45526 | Z22: =Y22+1 -> 45527 | AA22: =Z22+1 -> 45528
B23: Beginn | D23: Ende | F23: Ort der Veranstaltung | H23: Km | N23: =ROUNDUP(I32,3) -> 0 | O23: =I32 -> 0 | Q23: 9 | S23: Abschlusslehrfahrt | U23: =AA22+1 -> 45529 | V23: =U23+1 -> 45530 | W23: =V23+1 -> 45531 | X23: =W23+1 -> 45532 | Y23: =X23+1 -> 45533 | Z23: =Y23+1 -> 45534 | AA23: =Z23+1 -> 45535
A24: Wochentag: | B24: Datum Format TT.MM.JJJJ | C24: Uhrzeit Format 00:00 | D24: Datum Format TT.MM.JJJJ | E24: Uhrzeit Format 00:00 | F24: (bzw. bei berufsprakt. Wochen der besuchte Betrieb) | H24: (mehr als 4 Km, nur bei berufs-prakt. Wochen / Tagen) | I24: =IF(OR(K2=6,R16=4,R16=5),"","PKW-Genehmigung NUR bei berufspraktische Tage/Woche!") -> PKW-Genehmigung NUR bei berufspraktische Tage/Woche! | N24: =ROUNDUP(I33,3) -> 0 | O24: =I33 -> 0 | S24: Lesenacht | U24: =AA23+1 -> 45536 | V24: =U24+1 -> 45537 | W24: =V24+1 -> 45538 | X24: =W24+1 -> 45539 | Y24: =X24+1 -> 45540 | Z24: =Y24+1 -> 45541 | AA24: =Z24+1 -> 45542
B25: =IF(B36>C36,"Uhrzeit ergänzen!"," ") | C25: =IF(C36>B36,"Datum ergänzen!"," ") | D25: =IF(D36>E36,"Uhrzeit ergänzen!"," ") | E25: =IF(E36>D36,"Datum ergänzen!"," ") | F25: ORTSANGABE | K25: für Wandert. m. Nächtigung | L25: 5,0,-8 | M25: >8 | N25: <5 Stunden | O25: 5-8 Std. | P25: 8,01-12 Std. | Q25: 12-24 Std. | R25: 1 | S25: bitte auswählen | U25: =AA24+1 -> 45543 | V25: =U25+1 -> 45544 | W25: =V25+1 -> 45545 | X25: =W25+1 -> 45546 | Y25: =X25+1 -> 45547 | Z25: =Y25+1 -> 45548 | AA25: =Z25+1 -> 45549
A26: Sonntag | I26: =IF(B26="",0,IF(D26="",0,IF((E26-C26)<=0,0,E26-C26))) -> 0 | K26: =IF((E26-C32)<0,0,E26-C32) -> 0 | L26: =IF(AND(K17>=0.21,K17<=0.334),G26,0) -> 0 | M26: =IF(K26>=0.335,1,0) -> 0 | N26: =IF(I26<=0.2084,I26,0) -> 0 | O26: =IF(AND(N17>=0.21,N17<=0.334),I26,0) -> 0 | P26: =IF(AND(I26>0.334,I26<=0.5),I26,0) -> 0 | Q26: =IF(I26>0.5,I26,0) -> 0 | R26: =VALUE(R16&R25) -> 11 | S26: ohne Nächtigung | T26: =IF(F26>"",1,0) -> 0 | U26: =AA25+1 -> 45550 | V26: =U26+1 -> 45551 | W26: =V26+1 -> 45552 | X26: =W26+1 -> 45553 | Y26: =X26+1 -> 45554 | Z26: =Y26+1 -> 45555 | AA26: =Z26+1 -> 45556
A27: Montag | I27: =IF(B27="",0,IF(D27="",0,IF((E27-C27)<=0,0,E27-C27))) -> 0 | K27: =IF((E27-C26)<0,0,E27-C26) -> 0 | L27: =IF(AND(K18>=0.21,K18<=0.334),G27,0) -> 0 | M27: =IF(K27>=0.335,1,0) -> 0 | N27: =IF(I27<=0.2084,I27,0) -> 0 | O27: =IF(AND(N18>=0.21,N18<=0.334),I27,0) -> 0 | P27: =IF(AND(I27>0.334,I27<=0.5),I27,0) -> 0 | Q27: =IF(I27>0.5,I27,0) -> 0 | S27: mit Nächtigung - ohne Nächtigungskosten | T27: =IF(F27>"",1,0) -> 0 | U27: =AA26+1 -> 45557 | V27: =U27+1 -> 45558 | W27: =V27+1 -> 45559 | X27: =W27+1 -> 45560 | Y27: =X27+1 -> 45561 | Z27: =Y27+1 -> 45562 | AA27: =Z27+1 -> 45563
A28: Dienstag | I28: =IF(B28="",0,IF(D28="",0,IF((E28-C28)<=0,0,E28-C28))) -> 0 | K28: =IF((E28-C27)<0,0,E28-C27) -> 0 | L28: =IF(AND(K28>=0.21,K28<=0.334),1,0) -> 0 | M28: =IF(K28>=0.335,1,0) -> 0 | N28: =IF(I28<=0.2084,I28,0) -> 0 | O28: =IF(AND(N19>=0.21,N19<=0.334),I28,0) -> 0 | P28: =IF(AND(I28>0.334,I28<=0.5),I28,0) -> 0 | Q28: =IF(I28>0.5,I28,0) -> 0 | S28: mit Nächtigung - mit Nächtigungskosten | T28: =IF(F28>"",1,0) -> 0 | U28: =AA27+1 -> 45564 | V28: =U28+1 -> 45565 | W28: =V28+1 -> 45566 | X28: =W28+1 -> 45567 | Y28: =X28+1 -> 45568 | Z28: =Y28+1 -> 45569 | AA28: =Z28+1 -> 45570
A29: Mittwoch | I29: =IF(B29="",0,IF(D29="",0,IF((E29-C29)<=0,0,E29-C29))) -> 0 | K29: =IF((E29-C28)<0,0,E29-C28) -> 0 | L29: =IF(AND(K20>=0.21,K20<=0.334),G29,0) -> 0 | M29: =IF(K29>=0.335,1,0) -> 0 | N29: =IF(I29<=0.2084,I29,0) -> 0 | O29: =IF(AND(N20>=0.21,N20<=0.334),I29,0) -> 0 | P29: =IF(AND(I29>0.334,I29<=0.5),I29,0) -> 0 | Q29: =IF(I29>0.5,I29,0) -> 0 | T29: =IF(F29>"",1,0) -> 0 | U29: =AA28+1 -> 45571 | V29: =U29+1 -> 45572 | W29: =V29+1 -> 45573 | X29: =W29+1 -> 45574 | Y29: =X29+1 -> 45575 | Z29: =Y29+1 -> 45576 | AA29: =Z29+1 -> 45577
A30: Donnerstag | I30: =IF(B30="",0,IF(D30="",0,IF((E30-C30)<=0,0,E30-C30))) -> 0 | K30: =IF((E30-C29)<0,0,E30-C29) -> 0 | L30: =IF(AND(K30>0,2.146,K30<0.33),1,0) -> 0 | M30: =IF(K30>=0.335,1,0) -> 0 | N30: =IF(I30<=0.2084,I30,0) -> 0 | O30: =IF(AND(N21>=0.21,N21<=0.334),I30,0) -> 0 | P30: =IF(AND(I30>0.334,I30<=0.5),I30,0) -> 0 | Q30: =IF(I30>0.5,I30,0) -> 0 | T30: =IF(F30>"",1,0) -> 0 | U30: =AA29+1 -> 45578 | V30: =U30+1 -> 45579 | W30: =V30+1 -> 45580 | X30: =W30+1 -> 45581 | Y30: =X30+1 -> 45582 | Z30: =Y30+1 -> 45583 | AA30: =Z30+1 -> 45584
A31: Freitag | I31: =IF(B31="",0,IF(D31="",0,IF((E31-C31)<=0,0,E31-C31))) -> 0 | K31: =IF((E31-C30)<0,0,E31-C30) -> 0 | L31: =IF(AND(K31>0,2.146,K31<0.33),1,0) -> 0 | M31: =IF(K31>=0.335,1,0) -> 0 | N31: =IF(I31<=0.2084,I31,0) -> 0 | O31: =IF(AND(N22>=0.21,N22<=0.334),I31,0) -> 0 | P31: =IF(AND(I31>0.334,I31<=0.5),I31,0) -> 0 | Q31: =IF(I31>0.5,I31,0) -> 0 | T31: =IF(F31>"",1,0) -> 0 | U31: =AA30+1 -> 45585 | V31: =U31+1 -> 45586 | W31: =V31+1 -> 45587 | X31: =W31+1 -> 45588 | Y31: =X31+1 -> 45589 | Z31: =Y31+1 -> 45590 | AA31: =Z31+1 -> 45591
A32: Samstag | I32: =IF(B32="",0,IF(D32="",0,IF((E32-C32)<=0,0,E32-C32))) -> 0 | K32: =IF((E32-C31)<0,0,E32-C31) -> 0 | L32: =IF(AND(K32>0,2.146,K32<0.33),1,0) -> 0 | M32: =IF(K32>=0.335,1,0) -> 0 | N32: =IF(I32<=0.2084,I32,0) -> 0 | O32: =IF(AND(N23>=0.21,N23<=0.334),I32,0) -> 0 | P32: =IF(AND(I32>0.334,I32<=0.5),I32,0) -> 0 | Q32: =IF(I32>0.5,I32,0) -> 0 | S32: 2 | T32: =IF(F32>"",1,0) -> 0 | U32: =AA31+1 -> 45592 | V32: =U32+1 -> 45593 | W32: =V32+1 -> 45594 | X32: =W32+1 -> 45595 | Y32: =X32+1 -> 45596 | Z32: =Y32+1 -> 45597 | AA32: =Z32+1 -> 45598
A33: Sonntag | I33: =IF(B33="",0,IF(D33="",0,IF((E33-C33)<=0,0,E33-C33))) -> 0 | K33: =IF((E33-C32)<0,0,E33-C32) -> 0 | L33: =IF(AND(K33>0,2.146,K33<0.33),1,0) -> 0 | M33: =IF(K33>=0.335,1,0) -> 0 | N33: =IF(I33<=0.2084,I33,0) -> 0 | O33: =IF(AND(N24>=0.21,N24<=0.334),I33,0) -> 0 | P33: =IF(AND(I33>0.334,I33<=0.5),I33,0) -> 0 | Q33: =IF(I33>0.5,I33,0) -> 0 | S33: bitte auswählen | T33: =IF(F33>"",1,0) -> 0 | U33: =AA32+1 -> 45599 | V33: =U33+1 -> 45600 | W33: =V33+1 -> 45601 | X33: =W33+1 -> 45602 | Y33: =X33+1 -> 45603 | Z33: =Y33+1 -> 45604 | AA33: =Z33+1 -> 45605
B34: =SUM(B26:B33) -> 0 | D34: =SUM(D26:D33) -> 0 | F34: =(D34-B34) -> 0 | H34: =SUM(H26:H33) -> 0 | K34: =SUM(K26:K33) -> 0 | L34: =IF(AND(L35>5.0167,L35<=8),1,0) -> 0 | M34: =IF(M35>8.0167,1,0) -> 0 | N34: =SUM(N26:N33) -> 0 | O34: =SUM(O26:O33) -> 0 | P34: =SUM(P26:P33) -> 0 | Q34: =SUM(Q26:Q33) -> 0 | R34: =VALUE(SUM(N34:Q34)) -> 0 | S34: autonome Festlegung | T34: =SUM(T26:T33) -> 0 | U34: =AA33+1 -> 45606 | V34: =U34+1 -> 45607 | W34: =V34+1 -> 45608 | X34: =W34+1 -> 45609 | Y34: =X34+1 -> 45610 | Z34: =Y34+1 -> 45611 | AA34: =Z34+1 -> 45612
C35: =SUM(C26:C33) -> 0 | E35: =SUM(E26:E33) -> 0 | F35: =E35-C35 -> 0 | G35: =IF(S32=2,"auton. Beschluss v. ","Beschluss vom ") -> auton. Beschluss v. | K35: =K34 -> 0 | L35: =F35*24 -> 0 | M35: =F35*24 -> 0 | N35: =N34*24 -> 0 | O35: =O34*24 -> 0 | P35: =P34*24 -> 0 | Q35: =Q34*24 -> 0 | R35: =SUM(O35:Q35) -> 0 | S35: keine autonome Festlegung | U35: =AA34+1 -> 45613 | V35: =U35+1 -> 45614 | W35: =V35+1 -> 45615 | X35: =W35+1 -> 45616 | Y35: =X35+1 -> 45617 | Z35: =Y35+1 -> 45618 | AA35: =Z35+1 -> 45619
B36: =COUNTIF(B26:B33,">0") -> 0 | C36: =COUNTIF(C26:C33,">0") -> 0 | D36: =COUNTIF(D26:D33,">0") -> 0 | E36: =COUNTIF(E26:E33,">0") -> 0 | F36: =COUNTIF(F26:F33,">0") -> 0 | H36: =COUNTIF(H26:H33,">0") -> 0 | O36: =IF(O35<8.01,O35,0) -> 0 | U36: =AA35+1 -> 45620 | V36: =U36+1 -> 45621 | W36: =V36+1 -> 45622 | X36: =W36+1 -> 45623 | Y36: =X36+1 -> 45624 | Z36: =Y36+1 -> 45625 | AA36: =Z36+1 -> 45626
A37: Bezüglich der Anzahl der zulässigen Begleitpersonen wurde durch den Schulleiter (bei eintägigen Veranstaltungen) bzw. durch das Klassen- oder Schulforum bzw. den Schulgemeinschaftsausschuss (bei mehrtägigen Veranstaltungen) eine von § 2 Abs. 4 Z. 1 und 2 der Schulveranstaltungsverordnung 1995 abweichende Festlegung getroffen. | K37: =COUNTIF(K26:K33,">0,2146") -> 0 | N37: =COUNTIF(N26:N33,">0") -> 0 | O37: =COUNTIF(O26:O33,">0") -> 0 | P37: =COUNTIF(P26:P33,">0") -> 0 | Q37: =COUNTIF(Q26:Q33,">0") -> 0 | R37: Anzahl wenn Eintrag vorhanden | U37: =AA36+1 -> 45627 | V37: =U37+1 -> 45628 | W37: =V37+1 -> 45629 | X37: =W37+1 -> 45630 | Y37: =X37+1 -> 45631 | Z37: =Y37+1 -> 45632 | AA37: =Z37+1 -> 45633
N38: =(D27-B27)*24*60 -> 0 | U38: =AA37+1 -> 45634 | V38: =U38+1 -> 45635 | W38: =V38+1 -> 45636 | X38: =W38+1 -> 45637 | Y38: =X38+1 -> 45638 | Z38: =Y38+1 -> 45639 | AA38: =Z38+1 -> 45640
A39: Fahrtkosten | F39: EUR | G39: EUR | K39: =COUNTIF(K26:K33,0.2146) -> 0 | N39: =(D28-B28)*24*60 -> 0 | O39: =MIN(B26:B33) -> 0 | P39: =MAX(D26:D33) -> 0 | Q39: =P39-O39 -> 0 | U39: =AA38+1 -> 45641 | V39: =U39+1 -> 45642 | W39: =V39+1 -> 45643 | X39: =W39+1 -> 45644 | Y39: =X39+1 -> 45645 | Z39: =Y39+1 -> 45646 | AA39: =Z39+1 -> 45647
A40: öffentl. Massenbeförderungsmittel (Bahn, Bus, Straßenbahn) BEILAGEN DER RECHNUNG! Einzahlungsbestätigung / Buchungsbestätigung! | K40: 0.33333333 | U40: =AA39+1 -> 45648 | V40: =U40+1 -> 45649 | W40: =V40+1 -> 45650 | X40: =W40+1 -> 45651 | Y40: =X40+1 -> 45652 | Z40: =Y40+1 -> 45653 | AA40: =Z40+1 -> 45654
...

Sheet Leitfaden
A1: Leitfaden - Abrechnung Reisegebühren für Schulveranstaltungen
A4: Im Folgenden wird der vollständige Ablauf einer Reisekostenabrechnung für Schulveranstaltungen erläutert.
A6: → Das Formular zur Abrechnung von Reisegebühren für Schulveranstaltungen ist nur
A7: von Landeslehrern zu verwenden.
A9: Bei Veranstaltungen mit einer Dauer von weniger als fünf Stunden gebührt grundsätzlich kein Anspruch auf Vergütung der Reisegebühren.
A10: Die Vergütung für die Leitung und die Teilnahme an mehrtägigen Schulveranstaltungen (Erlass Nr. 41) wird über die Schuldatenbank abgerechnet. Eine Privat-PKW-Genehmigung (amtliches Kilometergeld) kann grundsätzlich nur bei berufspraktischen Tagen genehmigt werden können.
A12: Folgende Punkte sind bei der Abrechnung von Reisegebühren für Schulveranstaltungen zu
A13: berücksichtigen, wobei die einzelnen Schritte nachstehend näher behandelt werden:
A27: 1. Herunterladen des Formulars "Reisegebühren für Schulveranstaltungen"
A29: Um das Formular "Reisegebühren für Schulveranstaltungen" ausfüllen zu können, muss dieses zunächst
A30: auf der Homepage der Bildungsdirektion, www.bildung-tirol.gv.at, heruntergeladen werden.
A31: https://bildung-tirol.gv.at/service/formularsammlung/personalabteilung
... A148: → berechnet. Die Tarife gestalten sich wie folgt:
A150: a) Exkursion: | G150: Tagesgebühr
A151: Mehr als 5 bis zu 8 Stunden: | F151: EUR | G151: 10
A152: Mehr als 8 bis zu 12 Stunden: | F152: EUR | G152: 20
A153: Mehr als 12 bis zu 24 Stunden: | F153: EUR | G153: 22.8
A155: ! Sämtliche Exkursionen sind über das Formular abzurechnen ! ! Mehrtägige Exkursionen sind als Projektwochen/-tage abzurechnen!
A158: b) Wander- bzw. Sporttag: | G158: Tagesgebühr
A159: Mehr als 5 bis zu 8 Stunden: | F159: EUR | G159: 12.75
A160: Mehr als 8 Stunden: | F160: EUR | G160: 26.25
A162: c) Berufspraktischer Tag: | G162: Tagesgebühr
A163: Kilometergeld (Genehmigung): | F163: EUR | G163: 0,50 pro km
A164: Mehr als 5 bis zu 8 Stunden: | F164: EUR | G164: 10
A165: Mehr als 8 bis zu 12 Stunden: | F165: EUR | G165: 20
A166: Mehr als 12 bis zu 24 Stunden: | F166: EUR | G166: 22.8
A168: d) Berufspraktische Woche: | G168: Tagesgebühr
A169: Kilometergeld (Genehmigung): | F169: EUR | G169: 0,50 pro km
A170: Mehr als 5 bis zu 8 Stunden: | F170: EUR | G170: 10
A171: Mehr als 8 bis zu 12 Stunden: | F171: EUR | G171: 20
A172: Mehr als 12 bis zu 24 Stunden: | F172: EUR | G172: 22.8
A174: e) Wintersportwoche: (ab 4 Tage) | G174: Tagesgebühr
A175: pro angefangenem Tag mit / ohne Nächtigung: | F175: EUR | G175: 36.3
A176: Mehr als 5 bis zu 8 Stunden: | F176: EUR | G176: 12.75
A177: Mehr als 8 Stunden: | F177: EUR | G177: 26.25
A179: f) Sommersportwoche: (ab 4 Tage) | G179: Tagesgebühr
A180: pro angefangenem Tag mit/ohne Nächtigung: | F180: EUR | G180: 31.5
A182: Mehr als 5 bis zu 8 Stunden: | F182: EUR | G182: 12.75
A183: Mehr als 8 Stunden: | F183: EUR | G183: 26.25
A185: g) Lesenacht: | G185: Tagesgebühr
...

Sheet Information_Kompakt
A2: Information Kompakt: Reisegebühren für Schulveranstaltungen | B2: ☐ Teilen Sie uns die zusätzliche Förderung der Fahrtkosten (Südtirol Aktion) unbedingt mit
B3: ☐ England-Wochen: Übersichtliche Kostenaufstellung inkl. Umrechnung
A4: Das Excel-Formular zur einfachen Abrechnung wird laufend aktuell gehalten und ist unter | B4: ☐ Beantragen Sie die Standortskikurse mit der Kategorie Wander- oder Sporttag
A5: https://bildung-tirol.gv.at/service/formularsammlung/personalabteilung abrufbar. | B5: → Erst ab 4 Tagen ist die Angabe als Wintersportwoche erlaubt!Sowie bei Sommersportwoche!
A6: Die Abrechnung
A7: ☐ Wählen Sie Ihre Schule aus und geben Sie die Art der Veranstaltung an | B7: SachbearbeiterInnen Abteilung Budget und Wirtschaft
A8: ☐ Geben Sie Datum, Uhrzeit & Ort der Veranstaltung an | B8: Angelika Mittermayer-Prader (erreichbar Dienstag-Donnerstag vormittags)
A9: ☐ Fahrtkosten: Rechnungen + Einzahlungs-/Buchungsbestätigung für das gemietete Beförderungsmittel (wie z.B. Bus) sind immer beizulegen | B9: E-Mail: angelika.mittermayer-prader@bildung-tirol.gv.at
B10: Telefon: +43 512 9012 - 9236
A11: → Aufschlüsselung der anteiligen Fahrtkosten pro Lehrperson ist notwendig ! | B11: Beatrix Arnold (erreichbar Montag-Freitag vormittags)
A12: ☐ Nächtigungskosten: ausschließlich Bestätigungen für Lehrer ohne Frühstück ! | B12: E-Mail: beatrix.arnold@bildung-tirol.gv.at
A13: → Bitte verwenden Sie dafür das Beiblatt "Bestätigung der Unterkunft"! Rechnung&Einzahlungsbeleg | B13: Telefon: +43 512 9012 - 9195
A14: ☐ Legen Sie alle Belege, Rechnungen+Einzahlungsbestätigungen für sonstige Kosten
A15: wie z.B. Eintritte, Liftfahrten, u.a. bei
A16: ☐ Lehrpersonen: Achten Sie auf die korrekte Angabe von Name und SAP-Personalnummer
A17: ☐ Schulfremde Personen : Geben Sie Name,Ort,PLZ,Adresse u. korrekten IBAN (20 Stellen) an
A18: →Jede weitere schulfremde Person (z.B. (Keine Vorschläge)) benötigt ein eigenes Formular !
A19: ☐ Angabe der Telefonnummer bei Rückfragen vorteilhaft
A20: ☐ Unterschrift und Stempel der Schulleitung auf der Rückseite dürfen nicht fehlen
A21: → Alternative: per E-Mail mit Einzeiler die sachliche Richtigkeit der Angaben bestätigen
A22: ☐ Berufspraktischen Tage/Wochen: Beilage des Einsatzplanes erforderlich
A23: ☐ ! Antragsfrist innerhalb von 6 Monaten (beginnend mit dem Monat, in den das Ende
A24: der Dienstreise fällt !! gemäß § 36 Abs. 2 RGV 1955 | B24: Formularübermittlung
A25: Weitere wichtige Punkte
A26: ☐ ! Sämtliche Exkursionen sind über das Formular abzurechnen. | B26: Achtung: keine doppelte Übermittlung und die sachliche Richtigkeit der Angaben bestätigen !
A27: ! Mehrtägige Exkursionen sind als Projekttage/-woche abzurechnen!
A28: ☐ Bei unterschiedlichen Kosten pro Lehrperson (z.B. verschiedene Fahrtkosten für 2 LP) sind | B28: Bildungsdirektion für Tirol
A29: → separate Formulare für die jeweiligen Lehrpersonen auszufüllen | B29: Abteilung Budget und Wirtschaft
A30: ☐ Bitte legen Sie bei jedem weiteren Formular (z.B. für schulfremde Personen) die jeweiligen | B30: zH Frau Angelika Mittermayer-Prader
A31: → Kopien (Belege) erneut bei | B31: Heiliggeiststraße 7
A32: ☐ Für jede Lehrperson sind die Kosten separat mittels Belegen nachzuweisen (keine Kopien!) | B32: 6020 Innsbruck
A33: ☐ Genehmigung v. PKW Fahrtkosten (Kilometergeld) erfolgt NUR bei berufspraktischen Tagen
A34: ☐ Wien-Wochen: unbedingt alle Belege (zB Wiener Linien, Musical, Tiergarten,…) Rechnungen | B34: oder per E-Mail an: abrechnung.schulveranstaltungen@bildung-tirol.gv.at
A35: inkl. Einzahlungsbestätigungen → Bei Wien Aktionen ist das Schreiben des BM beizulegen

Sheet Bestätigung Unterkunft
A1: Beilage zum Antrag Reisegebühren für Schulveranstaltungen
A3: B E S T Ä T I G U N G
A5: Es wird bestätigt, dass nachstehend angeführten Lehrkräfte (Begleitpersonen) anlässlich der
B7: Sommersportwoche | G7: Wintersportwoche | M7: Projektwoche
A10: der
A12: in der Zeit von ____________________ bis _____________________
A14: in unserer Unterkunft in __________________________________
A16: folgende Kosten bezahlt haben:
A18: Lehrkräfte/Begleitpersonen:
A19: Nächtigungskosten ohne Frühstück | I19: Anzahl der Nächtigungen | O19: Summe
A20: EUR | H20: X | N20: = | O20: EUR
A23: Der | C23: Halbpensionspreis | J23: Vollpensionspreis
A25: - für die Lehrkräfte/Begleitpersonen belief sich auf EUR _________________ /Tag (inkl. MWSt.)
A27: Lehrkräfte/Begleitpersonen:
A41: Ort, Datum | K41: Unterschrift, Stempel
A42: Bildungsdirektion für Tirol, Heilliggeiststraße 7, 6020 Innsbruck

Sheet Einsatzplan berufsprakt.Tage
A1: Einsatzplan für berufspraktische Tage
A3: Schule
A5: Name der Lehrperson
A7: Berufspraktische Tage bzw. Woche | G7: von | K7: bis
A9: Datum | C9: Betriebsbesuche in | H9: Dauer der Dienstverrichtung | M9: Kilometer- anzahl
A30: Bildungsdirektion für Tirol, Heiliggeiststraße 7, 6020 Innsbruck

Sheet Tarife
C1: 1 | D1: 2 | E1: 3 | F1: 4 | K1: 6 | L1: 4 | S1: 1 | T1: Schultyp - bitte auswählen | V1: 1 | W1: Bezirk - bitte auswählen | Y1: NR | AA1: Zeile | AB1: 1 | AC1: bitte auswählen
C2: Berufs- praktische Tage | D2: Berufs- praktische Woche | E2: Projektwoche | F2: Abschluss- lehrfahrt | L2: 5 | S2: 2 | T2: Berufsschule | V2: 2 | W2: Ibk-Land/Ost | Y2: =Formular!K3 -> 11 | Z2: =VLOOKUP(Formular!K3,Schuldatenbank!$E$3:$O$605,5,FALSE) -> #N/A | AA2: =VLOOKUP(Y2,Schuldatenbank!E3:O600,11,FALSE) -> #N/A | AB2: 2 | AC2: =VLOOKUP(Z2,Schuldatenbank!$I$3:$O$600,2,FALSE) -> #N/A
A3: Fahrtspesen | B3: Öffentlich | C3: ja | D3: ja | E3: ja | F3: ja | S3: 3 | T3: Mittelschule | V3: 3 | W3: Ibk-Land/West | Y3: =AA2+1 -> #N/A | Z3: =VLOOKUP(Y3,Schuldatenbank!$A$3:$O$600,6,FALSE) -> #N/A | AA3: =VLOOKUP(Y3,Schuldatenbank!$A$3:$O$600,5,FALSE) -> #N/A | AB3: 3 | AC3: =IF($Y$2=AA3,VLOOKUP(Z3,Schuldatenbank!$E$2:$O$600,5,FALSE),"") -> #N/A
A4: Fahrtspesen | B4: gemietetes Beförd.Mittel | C4: ja | D4: ja | E4: ja | F4: ja | S4: 4 | T4: Land- und forstwirtschaftliche Fachschule | V4: 4 | W4: Imst | Y4: =Y3+1 -> #N/A | Z4: =VLOOKUP(Y4,Schuldatenbank!$A$3:$O$600,6,FALSE) -> #N/A | AA4: =VLOOKUP(Y4,Schuldatenbank!$A$3:$O$600,5,FALSE) -> #N/A | AB4: 4 | AC4: =IF($Y$2=AA4,VLOOKUP(Z4,Schuldatenbank!$E$2:$O$600,5,FALSE),"") -> #N/A
A5: Fahrtspesen | B5: eigenes KFZ | C5: 0.5 | D5: 0.5 | E5: 0 | F5: 0 | G5: bei SPZ und ASO immer EUR 0,42/km | S5: 5 | T5: Polytechnische Schule | V5: 5 | W5: Innsbruck-Stadt | Y5: =Y4+1 -> #N/A | Z5: =VLOOKUP(Y5,Schuldatenbank!$A$3:$O$600,6,FALSE) -> #N/A | AA5: =VLOOKUP(Y5,Schuldatenbank!$A$3:$O$600,5,FALSE) -> #N/A | AB5: 5 | AC5: =IF($Y$2=AA5,VLOOKUP(Z5,Schuldatenbank!$E$2:$O$600,5,FALSE),"") -> #N/A
B6: mit Nächtigung | E6: 28.8 | S6: 6 | T6: Sonderschule | V6: 6 | W6: Kitzbühel | Y6: =Y5+1 -> #N/A | Z6: =VLOOKUP(Y6,Schuldatenbank!$A$3:$O$600,6,FALSE) -> #N/A | AA6: =VLOOKUP(Y6,Schuldatenbank!$A$3:$O$600,5,FALSE) -> #N/A | AB6: 6 | AC6: =IF($Y$2=AA6,VLOOKUP(Z6,Schuldatenbank!$E$2:$O$600,5,FALSE),"") -> #N/A
A7: 0.20833333 | B7: <=5 | C7: RGV | D7: RGV | E7: 0 | F7: 0 | S7: 7 | T7: Volksschule | V7: 7 | W7: Kufstein | Y7: =Y6+1 -> #N/A | Z7: =VLOOKUP(Y7,Schuldatenbank!$A$3:$O$600,6,FALSE) -> #N/A | AA7: =VLOOKUP(Y7,Schuldatenbank!$A$3:$O$600,5,FALSE) -> #N/A | AB7: 7 | AC7: =IF($Y$2=AA7,VLOOKUP(Z7,Schuldatenbank!$E$2:$O$600,5,FALSE),"") -> #N/A
A8: 0.20902778 | B8: > 5-8 Std. | C8: 10 | D8: 10 | E8: 10 | F8: 10 | V8: 8 | W8: Landeck | Y8: =Y7+1 -> #N/A | Z8: =VLOOKUP(Y8,Schuldatenbank!$A$3:$O$600,6,FALSE) -> #N/A | AA8: =VLOOKUP(Y8,Schuldatenbank!$A$3:$O$600,5,FALSE) -> #N/A | AB8: 8 | AC8: =IF($Y$2=AA8,VLOOKUP(Z8,Schuldatenbank!$E$2:$O$600,5,FALSE),"") -> #N/A
A9: 0.33333333 | B9: > 5-8 Std. | C9: 10 | D9: 10 | E9: 10 | F9: 10 | H9: x | V9: 9 | W9: Lienz | Y9: =Y8+1 -> #N/A | Z9: =VLOOKUP(Y9,Schuldatenbank!$A$3:$O$600,6,FALSE) -> #N/A | AA9: =VLOOKUP(Y9,Schuldatenbank!$A$3:$O$600,5,FALSE) -> #N/A | AB9: 9 | AC9: =IF($Y$2=AA9,VLOOKUP(Z9,Schuldatenbank!$E$2:$O$600,5,FALSE),"") -> #N/A
A10: 0.33402778 | B10: > 8-12 Std. | C10: 20 | D10: 20 | E10: 20 | F10: 20 | V10: 10 | W10: Reutte | Y10: =Y9+1 -> #N/A | Z10: =VLOOKUP(Y10,Schuldatenbank!$A$3:$O$600,6,FALSE) -> #N/A | AA10: =VLOOKUP(Y10,Schuldatenbank!$A$3:$O$600,5,FALSE) -> #N/A | AB10: 10 | AC10: =IF($Y$2=AA10,VLOOKUP(Z10,Schuldatenbank!$E$2:$O$600,5,FALSE),"") -> #N/A
A11: 0.5 | B11: > 8-12 Std. | C11: 20 | D11: 20 | E11: 20 | F11: 20 | H11: x | V11: 11 | W11: Schwaz | Y11: =Y10+1 -> #N/A | Z11: =VLOOKUP(Y11,Schuldatenbank!$A$3:$O$600,6,FALSE) -> #N/A | AA11: =VLOOKUP(Y11,Schuldatenbank!$A$3:$O$600,5,FALSE) -> #N/A | AB11: 11 | AC11: =IF($Y$2=AA11,VLOOKUP(Z11,Schuldatenbank!$E$2:$O$600,5,FALSE),"") -> #N/A
A12: 0.50069444 | B12: >12 - 24 Std. | C12: 22.8 | D12: 22.8 | E12: 20 | F12: 20 | Y12: =Y11+1 -> #N/A | Z12: =VLOOKUP(Y12,Schuldatenbank!$A$3:$O$600,6,FALSE) -> #N/A | AA12: =VLOOKUP(Y12,Schuldatenbank!$A$3:$O$600,5,FALSE) -> #N/A | AB12: 12 | AC12: =IF($Y$2=AA12,VLOOKUP(Z12,Schuldatenbank!$E$2:$O$600,5,FALSE),"") -> #N/A
A13: 1 | B13: >12 - 24 Std. | C13: 22.8 | D13: 22.8 | E13: 20 | F13: 20 | H13: x | Y13: =Y12+1 -> #N/A | Z13: =VLOOKUP(Y13,Schuldatenbank!$A$3:$O$600,6,FALSE) -> #N/A | AA13: =VLOOKUP(Y13,Schuldatenbank!$A$3:$O$600,5,FALSE) -> #N/A | AB13: 13 | AC13: =IF($Y$2=AA13,VLOOKUP(Z13,Schuldatenbank!$E$2:$O$600,5,FALSE),"") -> #N/A
Y14: =Y13+1 -> #N/A | Z14: =VLOOKUP(Y14,Schuldatenbank!$A$3:$O$600,6,FALSE) -> #N/A | AA14: =VLOOKUP(Y14,Schuldatenbank!$A$3:$O$600,5,FALSE) -> #N/A | AB14: 14 | AC14: =IF($Y$2=AA14,VLOOKUP(Z14,Schuldatenbank!$E$2:$O$600,5,FALSE),"") -> #N/A
C15: Exkursion | D15: Wander- oder Sporttag | E15: Winter- sportwoche | F15: Sommer- sportwoche | Y15: =Y14+1 -> #N/A | Z15: =VLOOKUP(Y15,Schuldatenbank!$A$3:$O$600,6,FALSE) -> #N/A | AA15: =VLOOKUP(Y15,Schuldatenbank!$A$3:$O$600,5,FALSE) -> #N/A | AB15: 15 | AC15: =IF($Y$2=AA15,VLOOKUP(Z15,Schuldatenbank!$E$2:$O$600,5,FALSE),"") -> #N/A
A16: Fahrtspesen | B16: Öffentlich | C16: ja | D16: ja | E16: ja | F16: ja | Y16: =Y15+1 -> #N/A | Z16: =VLOOKUP(Y16,Schuldatenbank!$A$3:$O$600,6,FALSE) -> #N/A | AA16: =VLOOKUP(Y16,Schuldatenbank!$A$3:$O$600,5,FALSE) -> #N/A | AB16: 16 | AC16: =IF($Y$2=AA16,VLOOKUP(Z16,Schuldatenbank!$E$2:$O$600,5,FALSE),"") -> #N/A
A17: Fahrtspesen | B17: gemietetes Beförd.Mittel | C17: ja | D17: ja | E17: ja | F17: ja | Y17: =Y16+1 -> #N/A | Z17: =VLOOKUP(Y17,Schuldatenbank!$A$3:$O$600,6,FALSE) -> #N/A | AA17: =VLOOKUP(Y17,Schuldatenbank!$A$3:$O$600,5,FALSE) -> #N/A | AB17: 17 | AC17: =IF($Y$2=AA17,VLOOKUP(Z17,Schuldatenbank!$E$2:$O$600,5,FALSE),"") -> #N/A
A18: Fahrtspesen | B18: eigenes KFZ | C18: 0 | D18: 0 | E18: 0 | F18: 0 | G18: bei SPZ und ASO immer EUR 0,42/km | Y18: =Y17+1 -> #N/A | Z18: =VLOOKUP(Y18,Schuldatenbank!$A$3:$O$600,6,FALSE) -> #N/A | AA18: =VLOOKUP(Y18,Schuldatenbank!$A$3:$O$600,5,FALSE) -> #N/A | AB18: 18 | AC18: =IF($Y$2=AA18,VLOOKUP(Z18,Schuldatenbank!$E$2:$O$600,5,FALSE),"") -> #N/A
B19: mit Nächtigung | E19: 36.3 | F19: 31.5 | Y19: =Y18+1 -> #N/A | Z19: =VLOOKUP(Y19,Schuldatenbank!$A$3:$O$600,6,FALSE) -> #N/A | AA19: =VLOOKUP(Y19,Schuldatenbank!$A$3:$O$600,5,FALSE) -> #N/A | AB19: 19 | AC19: =IF($Y$2=AA19,VLOOKUP(Z19,Schuldatenbank!$E$2:$O$600,5,FALSE),"") -> #N/A
A20: 0.20833333 | B20: <=5 | C20: 0 | D20: 0 | E20: 0 | F20: 0 | Y20: =Y19+1 -> #N/A | Z20: =VLOOKUP(Y20,Schuldatenbank!$A$3:$O$600,6,FALSE) -> #N/A | AA20: =VLOOKUP(Y20,Schuldatenbank!$A$3:$O$600,5,FALSE) -> #N/A | AB20: 20 | AC20: =IF($Y$2=AA20,VLOOKUP(Z20,Schuldatenbank!$E$2:$O$600,5,FALSE),"") -> #N/A
A21: 0.20902778 | B21: >= 5-8 Std. | C21: 10 | D21: 12.75 | E21: 12.75 | F21: 12.75 | Y21: =Y20+1 -> #N/A | Z21: =VLOOKUP(Y21,Schuldatenbank!$A$3:$O$600,6,FALSE) -> #N/A | AA21: =VLOOKUP(Y21,Schuldatenbank!$A$3:$O$600,5,FALSE) -> #N/A | AB21: 21 | AC21: =IF($Y$2=AA21,VLOOKUP(Z21,Schuldatenbank!$E$2:$O$600,5,FALSE),"") -> #N/A
A22: 0.33333333 | B22: >= 5-8 Std. | C22: 10 | D22: 12.75 | E22: 12.75 | F22: 12.75 | H22: x | Y22: =Y21+1 -> #N/A | Z22: =VLOOKUP(Y22,Schuldatenbank!$A$3:$O$600,6,FALSE) -> #N/A | AA22: =VLOOKUP(Y22,Schuldatenbank!$A$3:$O$600,5,FALSE) -> #N/A | AB22: 22 | AC22: =IF($Y$2=AA22,VLOOKUP(Z22,Schuldatenbank!$E$2:$O$600,5,FALSE),"") -> #N/A
A23: 0.33402778 | B23: > 8 Std. | C23: 20 | D23: 26.25 | E23: 26.25 | F23: 26.25 | Y23: =Y22+1 -> #N/A | Z23: =VLOOKUP(Y23,Schuldatenbank!$A$3:$O$600,6,FALSE) -> #N/A | AA23: =VLOOKUP(Y23,Schuldatenbank!$A$3:$O$600,5,FALSE) -> #N/A | AB23: 23 | AC23: =IF($Y$2=AA23,VLOOKUP(Z23,Schuldatenbank!$E$2:$O$600,5,FALSE),"") -> #N/A
A24: 0.99930556 | B24: > 8 Std. | C24: 20 | D24: 26.25 | E24: 26.25 | F24: 26.25 | Y24: =Y23+1 -> #N/A | Z24: =VLOOKUP(Y24,Schuldatenbank!$A$3:$O$600,6,FALSE) -> #N/A | AA24: =VLOOKUP(Y24,Schuldatenbank!$A$3:$O$600,5,FALSE) -> #N/A | AB24: 24 | AC24: =IF($Y$2=AA24,VLOOKUP(Z24,Schuldatenbank!$E$2:$O$600,5,FALSE),"") -> #N/A
Y25: =Y24+1 -> #N/A | Z25: =VLOOKUP(Y25,Schuldatenbank!$A$3:$O$600,6,FALSE) -> #N/A | AA25: =VLOOKUP(Y25,Schuldatenbank!$A$3:$O$600,5,FALSE) -> #N/A | AB25: 25 | AC25: =IF($Y$2=AA25,VLOOKUP(Z25,Schuldatenbank!$E$2:$O$600,5,FALSE),"") -> #N/A
Y26: =Y25+1 -> #N/A | Z26: =VLOOKUP(Y26,Schuldatenbank!$A$3:$O$600,6,FALSE) -> #N/A | AA26: =VLOOKUP(Y26,Schuldatenbank!$A$3:$O$600,5,FALSE) -> #N/A | AB26: 26 | AC26: =IF($Y$2=AA26,VLOOKUP(Z26,Schuldatenbank!$E$2:$O$600,5,FALSE),"") -> #N/A
B27: Fahrtspesen | C27: Fahrtspesen | D27: Fahrtspesen | E27: Nächtigungsbeühr | F27: Tagesdrittel | G27: Tagesdrittel | H27: Tagesdrittel | I27: Tagesdrittel | J27: Tagesdrittel | Y27: =Y26+1 -> #N/A | Z27: =VLOOKUP(Y27,Schuldatenbank!$A$3:$O$600,6,FALSE) -> #N/A | AA27: =VLOOKUP(Y27,Schuldatenbank!$A$3:$O$600,5,FALSE) -> #N/A | AB27: 27 | AC27: =IF($Y$2=AA27,VLOOKUP(Z27,Schuldatenbank!$E$2:$O$600,5,FALSE),"") -> #N/A
Y28: =Y27+1 -> #N/A | Z28: =VLOOKUP(Y28,Schuldatenbank!$A$3:$O$600,6,FALSE) -> #N/A | AA28: =VLOOKUP(Y28,Schuldatenbank!$A$3:$O$600,5,FALSE) -> #N/A | AB28: 28 | AC28: =IF($Y$2=AA28,VLOOKUP(Z28,Schuldatenbank!$E$2:$O$600,5,FALSE),"") -> #N/A
B29: Öffentlich | C29: gemietetes Beförd.Mittel | D29: eigenes KFZ | E29: mit Nächtigung | F29: <=5 | G29: > 5-8 Std. | H29: > 8 Std. | I29: > 8-12 Std. | J29: >12 - 24 Std. | Y29: =Y28+1 -> #N/A | Z29: =VLOOKUP(Y29,Schuldatenbank!$A$3:$O$600,6,FALSE) -> #N/A | AA29: =VLOOKUP(Y29,Schuldatenbank!$A$3:$O$600,5,FALSE) -> #N/A | AB29: 29 | AC29: =IF($Y$2=AA29,VLOOKUP(Z29,Schuldatenbank!$E$2:$O$600,5,FALSE),"") -> #N/A
A30: Exkursion | B30: ja | C30: ja | D30: 0 | F30: 0 | G30: 10 | H30: 20 | I30: 20 | J30: 22.8 | Y30: =Y29+1 -> #N/A | Z30: =VLOOKUP(Y30,Schuldatenbank!$A$3:$O$600,6,FALSE) -> #N/A | AA30: =VLOOKUP(Y30,Schuldatenbank!$A$3:$O$600,5,FALSE) -> #N/A | AB30: 30 | AC30: =IF($Y$2=AA30,VLOOKUP(Z30,Schuldatenbank!$E$2:$O$600,5,FALSE),"") -> #N/A
A31: Wander- oder Sporttag | B31: ja | C31: ja | D31: 0 | F31: 0 | G31: 12.75 | H31: 26.25 | Y31: =Y30+1 -> #N/A | Z31: =VLOOKUP(Y31,Schuldatenbank!$A$3:$O$600,6,FALSE) -> #N/A | AA31: =VLOOKUP(Y31,Schuldatenbank!$A$3:$O$600,5,FALSE) -> #N/A | AB31: 31 | AC31: =IF($Y$2=AA31,VLOOKUP(Z31,Schuldatenbank!$E$2:$O$600,5,FALSE),"") -> #N/A
A32: Berufs- praktische Tage | B32: ja | C32: ja | D32: 0.5 | F32: 0 | G32: 10 | H32: 20 | I32: 20 | J32: 22.8 | Y32: =Y31+1 -> #N/A | Z32: =VLOOKUP(Y32,Schuldatenbank!$A$3:$O$600,6,FALSE) -> #N/A | AA32: =VLOOKUP(Y32,Schuldatenbank!$A$3:$O$600,5,FALSE) -> #N/A | AB32: 32 | AC32: =IF($Y$2=AA32,VLOOKUP(Z32,Schuldatenbank!$E$2:$O$600,5,FALSE),"") -> #N/A
A33: Berufs- praktische Woche | B33: ja | C33: ja | D33: 0.5 | F33: 0 | G33: 10 | H33: 20 | I33: 20 | J33: 22.8 | Y33: =Y32+1 -> #N/A | Z33: =VLOOKUP(Y33,Schuldatenbank!$A$3:$O$600,6,FALSE) -> #N/A | AA33: =VLOOKUP(Y33,Schuldatenbank!$A$3:$O$600,5,FALSE) -> #N/A | AB33: 33 | AC33: =IF($Y$2=AA33,VLOOKUP(Z33,Schuldatenbank!$E$2:$O$600,5,FALSE),"") -> #N/A
A34: Winter- sportwoche | B34: ja | C34: ja | D34: 0 | E34: 36.3 | F34: 0 | G34: 12.75 | H34: 26.25 | Y34: =Y33+1 -> #N/A | Z34: =VLOOKUP(Y34,Schuldatenbank!$A$3:$O$600,6,FALSE) -> #N/A | AA34: =VLOOKUP(Y34,Schuldatenbank!$A$3:$O$600,5,FALSE) -> #N/A | AB34: 34 | AC34: =IF($Y$2=AA34,VLOOKUP(Z34,Schuldatenbank!$E$2:$O$600,5,FALSE),"") -> #N/A
A35: Sommer- sportwoche | B35: ja | C35: ja | D35: 0 | E35: 31.5 | F35: 0 | G35: 12.75 | H35: 26.25 | Y35: =Y34+1 -> #N/A | Z35: =VLOOKUP(Y35,Schuldatenbank!$A$3:$O$600,6,FALSE) -> #N/A | AA35: =VLOOKUP(Y35,Schuldatenbank!$A$3:$O$600,5,FALSE) -> #N/A | AB35: 35 | AC35: =IF($Y$2=AA35,VLOOKUP(Z35,Schuldatenbank!$E$2:$O$600,5,FALSE),"") -> #N/A
A36: Projektwoche | B36: ja | C36: ja | D36: 0 | E36: 28.8 | F36: 0 | G36: 10 | I36: 20 | J36: 20 | Y36: =Y35+1 -> #N/A | Z36: =VLOOKUP(Y36,Schuldatenbank!$A$3:$O$600,6,FALSE) -> #N/A | AA36: =VLOOKUP(Y36,Schuldatenbank!$A$3:$O$600,5,FALSE) -> #N/A | AB36: 36 | AC36: =IF($Y$2=AA36,VLOOKUP(Z36,Schuldatenbank!$E$2:$O$600,5,FALSE),"") -> #N/A
A37: Abschluss- lehrfahrt | B37: ja | C37: ja | D37: 0 | F37: 0 | G37: 10 | I37: 20 | J37: 20 | Y37: =Y36+1 -> #N/A | Z37: =VLOOKUP(Y37,Schuldatenbank!$A$3:$O$600,6,FALSE) -> #N/A | AA37: =VLOOKUP(Y37,Schuldatenbank!$A$3:$O$600,5,FALSE) -> #N/A | AB37: 37 | AC37: =IF($Y$2=AA37,VLOOKUP(Z37,Schuldatenbank!$E$2:$O$600,5,FALSE),"") -> #N/A
D38: bei SPZ und ASO immer EUR 0,42/km | Y38: =Y37+1 -> #N/A | Z38: =VLOOKUP(Y38,Schuldatenbank!$A$3:$O$600,6,FALSE) -> #N/A | AA38: =VLOOKUP(Y38,Schuldatenbank!$A$3:$O$600,5,FALSE) -> #N/A | AB38: 38 | AC38: =IF($Y$2=AA38,VLOOKUP(Z38,Schuldatenbank!$E$2:$O$600,5,FALSE),"") -> #N/A
Y39: =Y38+1 -> #N/A | Z39: =VLOOKUP(Y39,Schuldatenbank!$A$3:$O$600,6,FALSE) -> #N/A | AA39: =VLOOKUP(Y39,Schuldatenbank!$A$3:$O$600,5,FALSE) -> #N/A | AB39: 39 | AC39: =IF($Y$2=AA39,VLOOKUP(Z39,Schuldatenbank!$E$2:$O$600,5,FALSE),"") -> #N/A
Y40: =Y39+1 -> #N/A | Z40: =VLOOKUP(Y40,Schuldatenbank!$A$3:$O$600,6,FALSE) -> #N/A | AA40: =VLOOKUP(Y40,Schuldatenbank!$A$3:$O$600,5,FALSE) -> #N/A | AB40: 40 | AC40: =IF($Y$2=AA40,VLOOKUP(Z40,Schuldatenbank!$E$2:$O$600,5,FALSE),"") -> #N/A
...

Sheet Bestätigung Unterkunft Ausland
A1: Beilage zum Antrag Reisegebühren für Schulveranstaltungen
A2: Supplement to request travel fees for school events in Great Britain
A3: Confirmation
A5: It is confirmed that listed below teachers (escorts) at the
A8: School:
A11: in the time of ____________________ till _____________________
A14: have paid our tourist accommodation in ___________________________
A17: the following costs:
A19: Teacher:
A20: Overnight accommodation without breakfast: | J20: Number of nights: | N20: amount: | P20: Betrag:
A21: £ | D21: EUR | H21: X | M21: = | N21: £ | P21: EUR
A25: Half-board per day: | F25: £
A26: Full-board price per day: | F26: £
A30: - for teachers amounted to EUR _________________ / per day (incl. VAT)
A33: Teachers
A40: Bildungsdirektion für Tirol, Heilliggeiststraße 7, 6020 Innsbruck (Allgemein bildende Pflichtschulen)
A53: Allegato alla domanda "tariffe di viaggio per le manifestazioni scholastici"
A55: confermazione
A57: Si conferma che gli insegnanti elencati qui di seguito patecipando alla
B59: Settimana sportiva estiva | G59: Settimana sportiva invernale | M59: Settimana di progetto
A62: della scuola:
A64: dal ____________________ al_____________________
A67: nella nostra azienda di alloggiamento __________________________________
A70: Hanno pagato le spese seguente :
A72: insegnanti/accompagnatori:
A73: Pernottamento senza prima colazione | I73: Quantità dei pernottamenti | O73: Somma
A74: EUR | G74: X | M74: = | O74: EUR
A79: il | C79: Prezzo per la Mezza Pensione | J79: Pensione completa
A82: - per gli insegnanti/accompagnatori sono di EUR _________________ /al giorno (IVA compresa)
A86: insegnanti/accompagnatori:
A94: Bildungsdirektion für Tirol, Heilliggeiststraße 7, 6020 Innsbruck (Allgemein bildende Pflichtschulen)

Sheet Tarif_BefZuschuss
A1: Öffentliches Verkehrsmittel - Beförderungszuschuss | F1: Nutzung PKW-Beförderungszuschuss
A2: ab Kilometer | B2: bis Kilometer | C2: gültig ab | F2: ab Kilometer | G2: bis Kilometer | H2: KMSatz Fahrer
A3: 1 | B3: 1 | C3: 2 | F3: 1 | G3: 1 | H3: 2
A4: 2 | B4: 2 | C4: 2 | F4: 2 | G4: 2 | H4: 2
A5: 3 | B5: 3 | C5: 2 | F5: 3 | G5: 3 | H5: 2
A6: 4 | B6: 4 | C6: 2 | F6: 4 | G6: 4 | H6: 2
A7: 5 | B7: 5 | C7: 2 | F7: 5 | G7: 5 | H7: 2
A8: 6 | B8: 6 | C8: 2 | F8: 6 | G8: 6 | H8: 2
A9: 7 | B9: 7 | C9: 2 | F9: 7 | G9: 7 | H9: 2
A10: 8 | B10: 8 | C10: 2 | F10: 8 | G10: 8 | H10: 2
A11: 9 | B11: 9 | C11: 4.5 | F11: 9 | G11: 9 | H11: 2.34
A12: 10 | B12: 10 | C12: 5 | F12: 10 | G12: 10 | H12: 2.6
A13: 11 | B13: 11 | C13: 5.5 | F13: 11 | G13: 11 | H13: 2.86
A14: 12 | B14: 12 | C14: 6 | F14: 12 | G14: 12 | H14: 3.12
... A642: 640 | B642: 640 | C642: 109 | F642: 640 | G642: 640 | H642: 69.3

Sheet Schuldatenbank
E1: Bitte Schule auswählen | F1: Bezirk
A2: 710131 | B2: 703073 | C2: APS | D2: SoS | E2: ASO Axams | F2: Innsbruck Land - West | G2: Lassnig Johannes | H2: hp.lassnig@tsn.at | I2: Ejiayelia-Gruber Karin | J2: ka.gruber@tsn.at | K2: Lindenweg 8 | L2: 70304 | M2: 6094 | N2: Axams | O2: +43 5234 68712 | Q2: direktion@aso-axams.tsn.at | R2: https://www.ms-seefeld.tsn.at | T2: ="Tel."&" "&O2&" "&"Mail:"&" "&Q2 -> Tel. +43 5234 68712 Mail: direktion@aso-axams.tsn.at
A3: 780832 | B3: 709043 | C3: APS | D3: SoS | E3: ASO Fügen | F3: Schwaz | G3: Gruber Paul | H3: p.gruber@tsn.at | I3: Kwech Andrea | J3: an.kwech@tsn.at | K3: Lindenweg 24 | L3: 70909 | M3: 6263 | N3: Fügen | O3: 0676 8344 5825 | P3: 0676 - 8344 5825 | Q3: direktion@aso-fuegen.tsn.at | R3: http://www.vs-vils.tsn.at/ | T3: ="Tel."&" "&O3&" "&"Mail:"&" "&Q3 -> Tel. 0676 8344 5825 Mail: direktion@aso-fuegen.tsn.at
A4: 730231 | B4: 702023 | C4: APS | D4: SoS | E4: ASO Haiming | F4: Imst | G4: Rotter Daniela | H4: d.rotter@tsn.at | I4: Mohamed Barbara | J4: ba.mohamed@tsn.at | K4: Waldstraße 13a | L4: 70202 | M4: 6430 | N4: Ötztal-Bahnhof / Haiming | O4: +43 5266 88600 570 | P4: 06607737380 | Q4: direktion@aso-haiming.tsn.at | R4: http://www.vs-unterried.tsn.at | T4: ="Tel."&" "&O4&" "&"Mail:"&" "&Q4 -> Tel. +43 5266 88600 570 Mail: direktion@aso-haiming.tsn.at
A5: 740631 | B5: 704033 | C5: APS | D5: SoS | E5: ASO Hopfgarten i. Br. | F5: Kitzbühel | G5: Kogler Barbara | H5: b.kogler@tsn.at | I5: Geisler Katharina | J5: k.geisler@tsn.at | K5: Marktgasse 22 | L5: 70406 | M5: 6361 | N5: Hopfgarten i. Br. | O5: +43 5335 228119 | P5: 069910965330 | Q5: direktion@aso-hopfgarten.tsn.at | R5: http://www.vs-absameichat.at/ | T5: ="Tel."&" "&O5&" "&"Mail:"&" "&Q5 -> Tel. +43 5335 228119 Mail: direktion@aso-hopfgarten.tsn.at
A6: 791631 | B6: 707013 | C6: APS | D6: SoS | E6: ASO Lienz | F6: Lienz | G6: Walder Martina | H6: ma.walder@tsn.at | I6: Mair Johanna | J6: j.mair@tsn.at | K6: Schloßgasse 2 | L6: 70716 | M6: 9900 | N6: Lienz | O6: +43 4852 62279 | P6: +434852 62279 | Q6: direktion@aso-lienz.tsn.at | R6: http://www.vs-koessen.tsn.at | T6: ="Tel."&" "&O6&" "&"Mail:"&" "&Q6 -> Tel. +43 4852 62279 Mail: direktion@aso-lienz.tsn.at
A7: 721031 | B7: 703023 | C7: APS | D7: SoS | E7: ASO Schulzentrum Hall | F7: Innsbruck Land - Ost | G7: Knapp-Hauser Karoline | H7: k.knapp-hauser@tsn.at | I7: Müller-Wisiol Andrea | J7: a.mueller-wisiol@tsn.at | K7: Universitätsallee 1 | L7: 70354 | M7: 6060 | N7: Hall i.T. | O7: +43 5223 45025 | Q7: direktion@aso-schulzentrum-hall.tsn.at | R7: http://www.vs-wattenberg.tsn.at | T7: ="Tel."&" "&O7&" "&"Mail:"&" "&Q7 -> Tel. +43 5223 45025 Mail: direktion@aso-schulzentrum-hall.tsn.at
A8: 782331 | B8: 709023 | C8: APS | D8: SoS | E8: ASO Schwaz | F8: Schwaz | G8: Wilfling Susanne | H8: s.wilfling@tsn.at | I8: Fankhauser Roland | J8: ro.fankhauser@tsn.at | K8: Franz-Josef-Straße 26 | L8: 70926 | M8: 6130 | N8: Schwaz | O8: +43 5242 6960505 | P8: 0680/5569019 | Q8: direktion@aso-schwaz.tsn.at | R8: http://www.vs-scharnitz.tsn.at/ | T8: ="Tel."&" "&O8&" "&"Mail:"&" "&Q8 -> Tel. +43 5242 6960505 Mail: direktion@aso-schwaz.tsn.at
A9: 722331 | B9: 703143 | C9: APS | D9: SoS | E9: ASO Wipptal | F9: Innsbruck Land - Ost | G9: Stoll Stefan | H9: s.stoll@tsn.at | I9: Kirchmair Elisabeth | J9: elis.kirchmair@tsn.at | K9: Trinserstraße 17 | L9: 70355 | M9: 6150 | N9: Steinach a.Br. | O9: +43 5272 6251620 | Q9: direktion@aso-wipptal.tsn.at | R9: http://www.eke.at/ | T9: ="Tel."&" "&O9&" "&"Mail:"&" "&Q9 -> Tel. +43 5272 6251620 Mail: direktion@aso-wipptal.tsn.at
A10: 761331 | B10: 706013 | C10: APS | D10: SoS | E10: ASO Zams | F10: Landeck | G10: Lanser Peter | H10: p.lanser@tsn.at | I10: Landerer Jürgen | J10: j.landerer@tsn.at | K10: Hauptstraße 49 | L10: 70630 | M10: 6511 | N10: Zams | O10: +43 5442 64054 | P10: +43 664 3947998 | Q10: direktion@aso-zams.tsn.at | T10: ="Tel."&" "&O10&" "&"Mail:"&" "&Q10 -> Tel. +43 5442 64054 Mail: direktion@aso-zams.tsn.at
A11: 791211 | B11: 707231 | C11: APS | D11: VS | E11: Bildungszentrum Kals | F11: Lienz | G11: Troger Michaela | H11: michaela.troger@tsn.at | I11: Bergerweiß Mathilde | J11: ma.bergerweiss@tsn.at | K11: Ködnitz 49 | L11: 70712 | M11: 9981 | N11: Kals a. Gr. | O11: 04876/8210 60 | P11: +43 6767558880 | Q11: direktion@bz-kals.tsn.at | R11: http://www.vs-jodler.tsn.at | T11: ="Tel."&" "&O11&" "&"Mail:"&" "&Q11 -> Tel. 04876/8210 60 Mail: direktion@bz-kals.tsn.at
A12: 700131 | B12: 701013 | C12: APS | D12: SoS | E12: Daniel-Sailer-Schule | F12: Innsbruck Stadt | G12: Burkhart Anita | H12: a.burkhart@tsn.at | I12: Herrmann-Hergovits Lydia | J12: l.hergovits@tsn.at | K12: Siebererstraße 9 | L12: 70101 | M12: 6020 | N12: Innsbruck | O12: +43 512 589466 | P12: +43 6506317114 | Q12: direktion@daniel-sailer-schule.tsn.at | R12: https://www.ms2-stjohann.tsn.at | T12: ="Tel."&" "&O12&" "&"Mail:"&" "&Q12 -> Tel. +43 512 589466 Mail: direktion@daniel-sailer-schule.tsn.at
A13: 710132 | B13: 703083 | C13: APS | D13: SoS | E13: Elisabethinum | F13: Innsbruck Land - West | G13: Kofler Wolfgang | H13: w.kofler@tsn.at | I13: Neuner Martina | J13: ma.neuner@tsn.at | K13: Mailsweg 2 | L13: 70304 | M13: 6094 | N13: Axams | O13: +43 5234 68277310 | Q13: direktion@pss-elisabethinum.tsn.at | R13: http://www.ms-sillian.at/ | T13: ="Tel."&" "&O13&" "&"Mail:"&" "&Q13 -> Tel. +43 5234 68277310 Mail: direktion@pss-elisabethinum.tsn.at
A14: 792731 | B14: 707043 | C14: APS | D14: SoS | E14: Georg Großlercher Schule | F14: Lienz | G14: Kozubowski Markus | H14: m.kozubowski@tsn.at | I14: Bachmann Sandra | J14: sandra.bachmann@tsn.at | K14: Sillian 185j | L14: 70728 | M14: 9920 | N14: Sillian | O14: +43 4842 6541 | P14: +43 6645912622 | Q14: direktion@aso-sillian.tsn.at | T14: ="Tel."&" "&O14&" "&"Mail:"&" "&Q14 -> Tel. +43 4842 6541 Mail: direktion@aso-sillian.tsn.at
A15: 751331 | B15: 705023 | C15: APS | D15: SoS | E15: Hans Henzinger Schule | F15: Kufstein | G15: Saugspier Roswitha | H15: r.saugspier@tsn.at | I15: Herz Barbara | J15: b.herz@tsn.at | K15: Josef Egger-Straße 2 | L15: 70513 | M15: 6330 | N15: Kufstein | O15: +43 5372 602150 | Q15: direktion@hans-henzinger-schule.tsn.at | T15: ="Tel."&" "&O15&" "&"Mail:"&" "&Q15 -> Tel. +43 5372 602150 Mail: direktion@hans-henzinger-schule.tsn.at
A16: 700133 | B16: 701033 | C16: APS | D16: SoS | E16: Heilstättenschule | F16: Innsbruck Stadt | G16: Waidhofer Andreas | H16: a.waidhofer@tsn.at | I16: Ralser Simone | J16: simone.ralser@tsn.at | K16: Anichstraße 35 | L16: 70101 | M16: 6020 | N16: Innsbruck | O16: +43 512 50422484 | Q16: direktion@heilstaettenschule.tsn.at | R16: https://www.ms-fliess.tsn.at | T16: ="Tel."&" "&O16&" "&"Mail:"&" "&Q16 -> Tel. +43 512 50422484 Mail: direktion@heilstaettenschule.tsn.at
A17: 730321 | B17: 702022 | C17: APS | D17: MS | E17: IT-MS Imst | F17: Imst | G17: Schlatter Jörg | H17: j.schlatter@tsn.at | I17: Oppl Dorothea | J17: doris.oppl@tsn.at | K17: Franz-Xaver-Renn-Straße 18 | L17: 70203 | M17: 6460 | N17: Imst | O17: +43 5412 63376 | P17: +436645944198 | Q17: direktion@itms-imst.tsn.at | R17: https://www.ms-hopfgarten.tsn.at | T17: ="Tel."&" "&O17&" "&"Mail:"&" "&Q17 -> Tel. +43 5412 63376 Mail: direktion@itms-imst.tsn.at
A18: 700423 | B18: 701142 | C18: APS | D18: MS | E18: MMS Innsbruck | F18: Innsbruck Stadt | G18: Kuprian Ildiko | H18: i.kuprian@tsn.at | I18: Pakosta Christoph | J18: c.pakosta@tsn.at | K18: Kajetan-Sweth-Straße 14 | L18: 70101 | M18: 6020 | N18: Innsbruck | O18: +43 512 263379 | P18: 06505202311 | Q18: direktion@mms-innsbruck.tsn.at | R18: https://www.itms-imst.tsn.at | T18: ="Tel."&" "&O18&" "&"Mail:"&" "&Q18 -> Tel. +43 512 263379 Mail: direktion@mms-innsbruck.tsn.at
A19: 753021 | B19: 705122 | C19: APS | D19: MS | E19: MMS Wildschönau | F19: Kufstein | G19: Schneeberger Paul | H19: p.schneeberger@tsn.at | I19: Gassner Claudia | J19: c.gassner@tsn.at | K19: Kirchen, Oberau 335 | L19: 70530 | M19: 6311 | N19: Wildschönau | O19: +43 5339 8110552 | P19: +436604950885 | Q19: direktion@mms-wildschoenau.tsn.at | R19: http://www.vs-gschnitz.tsn.at | T19: ="Tel."&" "&O19&" "&"Mail:"&" "&Q19 -> Tel. +43 5339 8110552 Mail: direktion@mms-wildschoenau.tsn.at
A20: 751321 | B20: 705042 | C20: APS | D20: MS | E20: MS 1 Kufstein | F20: Kufstein | G20: Ritzer Rudolf | H20: r.ritzer@tsn.at | I20: Mraz Alexander | J20: a.mraz@tsn.at | K20: Fischergries 30 | L20: 70513 | M20: 6330 | N20: Kufstein | O20: +43 5372 602161 | P20: +436764140403 | Q20: direktion@ms1-kufstein.tsn.at | T20: ="Tel."&" "&O20&" "&"Mail:"&" "&Q20 -> Tel. +43 5372 602161 Mail: direktion@ms1-kufstein.tsn.at
A21: 782321 | B21: 709052 | C21: APS | D21: MS | E21: MS 1 Schwaz | F21: Schwaz | G21: Egger Barbara | H21: barb.egger@tsn.at | I21: Saurwein Eveline | J21: ev.saurwein@tsn.at | K21: Hubert-Danzl-Platz 1 | L21: 70926 | M21: 6130 | N21: Schwaz | O21: +43 5242 6325510 | P21: 0699 11128140 | Q21: direktion@ms1schwaz.tsn.at | T21: ="Tel."&" "&O21&" "&"Mail:"&" "&Q21 -> Tel. +43 5242 6325510 Mail: direktion@ms1schwaz.tsn.at
A22: 741621 | B22: 704072 | C22: APS | D22: MS | E22: MS 1 St. Johann | F22: Kitzbühel | G22: Kofler Martin | H22: martin.kofler@tsn.at | I22: Brandstätter Eveline | J22: e.brandstaetter@tsn.at | K22: Postfeld 17 | L22: 70416 | M22: 6380 | N22: St. Johann i.T. | O22: +43 5352 6900441 | P22: +43680 1526796 | Q22: direktion@ms1-stjohann.tsn.at | R22: http://www.vs-berwang.tsn.at | T22: ="Tel."&" "&O22&" "&"Mail:"&" "&Q22 -> Tel. +43 5352 6900441 Mail: direktion@ms1-stjohann.tsn.at
A23: 753121 | B23: 705062 | C23: APS | D23: MS | E23: MS 1 Wörgl | F23: Kufstein | G23: Schneider Gottfried | H23: g.schneider@tsn.at | I23: Hohlrieder Michael | J23: hohlrieder@tsn.at | K23: Dr. Franz Stumpf-Straße 4 | L23: 70531 | M23: 6300 | N23: Wörgl | O23: +43 50 6300 5400 | Q23: direktion@ms1-woergl.tsn.at | R23: http://www.vs-heinfels.tsn.at | T23: ="Tel."&" "&O23&" "&"Mail:"&" "&Q23 -> Tel. +43 50 6300 5400 Mail: direktion@ms1-woergl.tsn.at
A24: 782322 | B24: 709062 | C24: APS | D24: MS | E24: MS 2 Schwaz | F24: Schwaz | G24: Hintner Johannes | H24: h.hintner@tsn.at | I24: Müller Bianca | J24: bianca.mueller@tsn.at | K24: Hubert-Danzl-Platz 1 | L24: 70926 | M24: 6130 | N24: Schwaz | O24: +43 5242 7385520 | P24: +4367762033759 | Q24: direktion@ms2schwaz.tsn.at | R24: http://www.vs-scheffau.tsn.at/ | T24: ="Tel."&" "&O24&" "&"Mail:"&" "&Q24 -> Tel. +43 5242 7385520 Mail: direktion@ms2schwaz.tsn.at
A25: 741622 | B25: 704082 | C25: APS | D25: MS | E25: MS 2 St. Johann | F25: Kitzbühel | G25: Wechselberger Klaus | H25: kl.wechselberger@tsn.at | I25: Thum Franz | J25: f.thum@tsn.at | K25: Postfeld 17 | L25: 70416 | M25: 6380 | N25: St. Johann i.T. | O25: +43 5352 6900 451 | Q25: direktion@ms2-stjohann.tsn.at | T25: ="Tel."&" "&O25&" "&"Mail:"&" "&Q25 -> Tel. +43 5352 6900 451 Mail: direktion@ms2-stjohann.tsn.at
A26: 753122 | B26: 705072 | C26: APS | D26: MS | E26: MS 2 Wörgl | F26: Kufstein | G26: Haun Kathrin | H26: k.haun@tsn.at | I26: Mayr Gwen | J26: gw.mayr@tsn.at | K26: Dr. Franz Stumpf-Straße 2 | L26: 70531 | M26: 6300 | N26: Wörgl | O26: +43 50 6300 5500 | Q26: direktion@ms2-woergl.tsn.at | R26: http://www.vs-hatting.tsn.at/ | T26: ="Tel."&" "&O26&" "&"Mail:"&" "&Q26 -> Tel. +43 50 6300 5500 Mail: direktion@ms2-woergl.tsn.at
A27: 790121 | B27: 707012 | C27: APS | D27: MS | E27: MS Abfaltersbach | F27: Lienz | G27: Bürgler Martin | H27: mar.buergler@tsn.at | I27: Fuchs Alexandra | J27: alex2.fuchs@tsn.at | K27: Abfaltersbach 92 | L27: 70701 | M27: 9913 | N27: Abfaltersbach | O27: +43 4846 6248 | P27: 0664/4026999 | Q27: direktion@ms-abfaltersbach.tsn.at | R27: http://www.vs-johannes-messner.tsn.at | T27: ="Tel."&" "&O27&" "&"Mail:"&" "&Q27 -> Tel. +43 4846 6248 Mail: direktion@ms-abfaltersbach.tsn.at
A28: 720122 | B28: 703202 | C28: APS | D28: MS | E28: MS Absam | F28: Innsbruck Land - Ost | G28: Liebsch Manfred | H28: m.liebsch@tsn.at | I28: Schneider Brigitte | J28: b.schneider@tsn.at | K28: Bgm. Franz Herzleier-Weg 3 | L28: 70301 | M28: 6067 | N28: Absam | O28: +43 676 840532303 | Q28: direktion@ms-absam.tsn.at | R28: https://www.ms-laengenfeld.tsn.at | T28: ="Tel."&" "&O28&" "&"Mail:"&" "&Q28 -> Tel. +43 676 840532303 Mail: direktion@ms-absam.tsn.at
A29: 780621 | B29: 709152 | C29: APS | D29: MS | E29: MS Achensee | F29: Schwaz | G29: Prassnigger-Havaux Karin | H29: k.prassnigger@tsn.at | I29: Ofner-Mühlbacher Anita | J29: a.ofner@tsn.at | K29: Pertisauer Straße 2 | L29: 70907 | M29: 6212 | N29: Maurach | O29: +43 5243 565611 | P29: +436764428881 | Q29: direktion@ms-achensee.tsn.at | T29: ="Tel."&" "&O29&" "&"Mail:"&" "&Q29 -> Tel. +43 5243 565611 Mail: direktion@ms-achensee.tsn.at
A30: 750121 | B30: 705162 | C30: APS | D30: MS | E30: MS Alpbach | F30: Kufstein | G30: Bletzacher Josef | H30: j.bletzacher@tsn.at | I30: Gutternig Georg | J30: g.gutternig@tsn.at | K30: Alpbach 670 | L30: 70501 | M30: 6236 | N30: Alpbach | O30: +43 5336 5490 | P30: 06888669251 | Q30: direktion@ms-alpbach.tsn.at | T30: ="Tel."&" "&O30&" "&"Mail:"&" "&Q30 -> Tel. +43 5336 5490 Mail: direktion@ms-alpbach.tsn.at
A31: 710121 | B31: 703012 | C31: APS | D31: MS | E31: MS Axams | F31: Innsbruck Land - West | G31: Lassnig Johannes | H31: hp.lassnig@tsn.at | I31: Neuner Klaus | J31: klaus.neuner@tsn.at | K31: Lindenweg 6 | L31: 70304 | M31: 6094 | N31: Axams | O31: +43 5234 6599511 | Q31: direktion@ms-axams.tsn.at | R31: http://www.ms-schulzentrum-hall.tsn.at/ | T31: ="Tel."&" "&O31&" "&"Mail:"&" "&Q31 -> Tel. +43 5234 6599511 Mail: direktion@ms-axams.tsn.at
A32: 750521 | B32: 705152 | C32: APS | D32: MS | E32: MS Breitenbach | F32: Kufstein | G32: Krigovszky Andreas | H32: andreas.krigovszky@tsn.at | I32: Hirner Otto | J32: o.hirner@tsn.at | K32: Ausserdorf 16 | L32: 70505 | M32: 6252 | N32: Breitenbach a. I. | O32: +43 5338 7983 | P32: +436605263000 | Q32: direktion@ms-breitenbach.tsn.at | R32: http://www.vs-ebbs.tsn.at | T32: ="Tel."&" "&O32&" "&"Mail:"&" "&Q32 -> Tel. +43 5338 7983 Mail: direktion@ms-breitenbach.tsn.at
A33: 750621 | B33: 705012 | C33: APS | D33: MS | E33: MS Brixlegg | F33: Kufstein | G33: Wurm Rudolf | H33: r.wurm@tsn.at | I33: Hufler Michael | J33: m.hufler@tsn.at | K33: Römerstraße 18 | L33: 70506 | M33: 6230 | N33: Brixlegg | O33: +43 5337 6224010 | P33: 06641620462 | Q33: direktion@ms-brixlegg.tsn.at | R33: http://www.vs-debant.tsn.at | T33: ="Tel."&" "&O33&" "&"Mail:"&" "&Q33 -> Tel. +43 5337 6224010 Mail: direktion@ms-brixlegg.tsn.at
A34: 761321 | B34: 706052 | C34: APS | D34: MS | E34: MS Clemens Holzmeister | F34: Landeck | G34: Pauli Karl Helmut | H34: h.pauli@tsn.at | I34: Ladner Michael | J34: mich.ladner@tsn.at | K34: Schulhausplatz 5 | L34: 70614 | M34: 6500 | N34: Landeck | O34: +43 5442 62448 | P34: 00436506491168 | Q34: direktion@ms-landeck.tsn.at | T34: ="Tel."&" "&O34&" "&"Mail:"&" "&Q34 -> Tel. +43 5442 62448 Mail: direktion@ms-landeck.tsn.at
A35: 792321 | B35: 707092 | C35: APS | D35: MS | E35: MS Defereggental | F35: Lienz | G35: Tönig Markus | H35: m.toenig@tsn.at | I35: Jesacher Doris | J35: d.jesacher@tsn.at | K35: Unterrotte 99 | L35: 70724 | M35: 9963 | N35: St. Jakob i. D. | O35: +43 676 848463720 | P35: +43676848463720 | Q35: leitung@scl-defereggental.tsn.at | R35: http://www.vs-oberperfuss.tsn.at | T35: ="Tel."&" "&O35&" "&"Mail:"&" "&Q35 -> Tel. +43 676 848463720 Mail: leitung@scl-defereggental.tsn.at
A36: 721022 | B36: 703122 | C36: APS | D36: MS | E36: MS Dr. Posch | F36: Innsbruck Land - Ost | G36: Vettori Martin | H36: m.vettori@tsn.at | I36: Erhart David | J36: da.erhart@tsn.at | K36: Gerbergasse 2 | L36: 70354 | M36: 6060 | N36: Hall i. T. | O36: +43 5223 56242 | Q36: direktion@ms-drposch.tsn.at | R36: http://www.vs-voegelsberg.tsn.at/ | T36: ="Tel."&" "&O36&" "&"Mail:"&" "&Q36 -> Tel. +43 5223 56242 Mail: direktion@ms-drposch.tsn.at
A37: 750821 | B37: 705022 | C37: APS | D37: MS | E37: MS Ebbs | F37: Kufstein | G37: Leitner Andreas | H37: andi.leitner@tsn.at | I37: Angermaier Josef | J37: j.angermaier@tsn.at | K37: Wildbichler Straße 34 | L37: 70508 | M37: 6341 | N37: Ebbs | O37: +43 5373 42202200 | P37: +43 664 833 92 87 | Q37: leitung@scl-ebbs.tsn.at | R37: http://www.vs-dreiheiligen.tsn.at/ | T37: ="Tel."&" "&O37&" "&"Mail:"&" "&Q37 -> Tel. +43 5373 42202200 Mail: leitung@scl-ebbs.tsn.at
A38: 791622 | B38: 707022 | C38: APS | D38: MS | E38: MS Egger-Lienz | F38: Lienz | G38: Schwab Gabriele | H38: g.schwab@tsn.at | I38: Mair Simon | J38: sim.mair@tsn.at | K38: Muchargasse 8 | L38: 70716 | M38: 9900 | N38: Lienz | O38: +43 660 6510916 | Q38: direktion@ms-egger-lienz.tsn.at | T38: ="Tel."&" "&O38&" "&"Mail:"&" "&Q38 -> Tel. +43 660 6510916 Mail: direktion@ms-egger-lienz.tsn.at
A39: 770621 | B39: 708012 | C39: APS | D39: MS | E39: MS Ehrwald | F39: Reutte | G39: Schanner Evelyn | H39: e.schanner@tsn.at | I39: Wallisch Markus | J39: m.wallisch@tsn.at | K39: Schulweg 4 | L39: 70807 | M39: 6632 | N39: Ehrwald | O39: +43 5673 2382 | P39: +43 676 7980192 | Q39: direktion@ms-ehrwald.tsn.at | R39: http://www.vs-leutasch.tsn.at/ | T39: ="Tel."&" "&O39&" "&"Mail:"&" "&Q39 -> Tel. +43 5673 2382 Mail: direktion@ms-ehrwald.tsn.at
A40: 740321 | B40: 704012 | C40: APS | D40: MS | E40: MS Fieberbrunn | F40: Kitzbühel | G40: Strobl Reinhard | H40: strobl@tsn.at | I40: Lohninger-Habicher Sylvia | J40: s.habicher@tsn.at | K40: Schulweg 5 | L40: 70403 | M40: 6391 | N40: Fieberbrunn | O40: +43 5354 5682020 | P40: 00436508788125 | Q40: direktion@ms-fieberbrunn.tsn.at | R40: http://www.vs-aldrans.tsn.at | T40: ="Tel."&" "&O40&" "&"Mail:"&" "&Q40 -> Tel. +43 5354 5682020 Mail: direktion@ms-fieberbrunn.tsn.at
...
